BEGIN:VCALENDAR
VERSION:2.0
PRODID:-//Consciously Sourced Products - ECPv6.2.0.1//NONSGML v1.0//EN
CALSCALE:GREGORIAN
METHOD:PUBLISH
X-WR-CALNAME:Consciously Sourced Products
X-ORIGINAL-URL:https://agracioussoul.com
X-WR-CALDESC:Events for Consciously Sourced Products
REFRESH-INTERVAL;VALUE=DURATION:PT1H
X-Robots-Tag:noindex
X-PUBLISHED-TTL:PT1H
BEGIN:VTIMEZONE
TZID:UTC
BEGIN:STANDARD
TZOFFSETFROM:+0000
TZOFFSETTO:+0000
TZNAME:UTC
DTSTART:20250101T000000
END:STANDARD
END:VTIMEZONE
BEGIN:VEVENT
DTSTART;TZID=UTC:20250206T180000
DTEND;TZID=UTC:20250206T200000
DTSTAMP:20260424T073933
CREATED:20250110T145357Z
LAST-MODIFIED:20250110T145357Z
UID:10575-1738864800-1738872000@agracioussoul.com
SUMMARY:Bubbles & Boards - Charcuterie Board Workshop
DESCRIPTION:Join us in collaboration with Artisan Bites for Bubbles & Boards – a fun-filled evening of charcuterie magic\, shopping & sipping (complimentary prosecco or mocktail) \nBuild your own heart-shaped charcuterie board AND enjoy an exclusive 10% in store discount for participants. \nLaugh\, sip\, create & celebrate with your favorite gals. Tickets are limited. \nClick For Tickets
URL:https://agracioussoul.com/event/bubbles-boards-charcuterie-board-workshop/
LOCATION:A Gracious Soul Shop\, 110 Main Street\, East Greenwich\, RI\, 02818\, United States
END:VEVENT
END:VCALENDAR