BEGIN:VCALENDAR
VERSION:2.0
PRODID:-//Consciously Sourced Products - ECPv6.2.0.1//NONSGML v1.0//EN
CALSCALE:GREGORIAN
METHOD:PUBLISH
X-ORIGINAL-URL:https://agracioussoul.com
X-WR-CALDESC:Events for Consciously Sourced Products
REFRESH-INTERVAL;VALUE=DURATION:PT1H
X-Robots-Tag:noindex
X-PUBLISHED-TTL:PT1H
BEGIN:VTIMEZONE
TZID:UTC
BEGIN:STANDARD
TZOFFSETFROM:+0000
TZOFFSETTO:+0000
TZNAME:UTC
DTSTART:20250101T000000
END:STANDARD
END:VTIMEZONE
BEGIN:VEVENT
DTSTART;TZID=UTC:20251009T180000
DTEND;TZID=UTC:20251009T200000
DTSTAMP:20260423T215521
CREATED:20250924T164126Z
LAST-MODIFIED:20250924T165011Z
UID:10608-1760032800-1760040000@agracioussoul.com
SUMMARY:Blanket Making Class with Cozy Carmel
DESCRIPTION:Blanket Making with Stacey of Cozy Carmel\nOctober 9th 6-8pm\nIt’s cozy season! Join us & learn how to knit a ½ or full size blanket (your choice!) at the shop. \nPersonalized instruction\, lite snacks & enjoy 10% off in store shopping. \nSpace is limited. Get your tickets today! \nTickets \n \n  \n 
URL:https://agracioussoul.com/event/blanketmaking/
END:VEVENT
BEGIN:VEVENT
DTSTART;TZID=UTC:20251022T180000
DTEND;TZID=UTC:20251022T190000
DTSTAMP:20260423T215521
CREATED:20250924T164907Z
LAST-MODIFIED:20250924T164950Z
UID:10622-1761156000-1761159600@agracioussoul.com
SUMMARY:The Cosmic Bar: A Libra New Moon Gathering
DESCRIPTION:Join us for the Cosmic Bar: A Libra New Moon Gathering \nLed by Tori Gehlmeyer\, founded of Tea for Torie. October 22nd 6-7pm\n  \nSip mocktails\, set intentions & connect with a circle of like-minded women. Join us for an immersive class blending astrology\, herbalism & ritual. Together we’ll sip astro-herbal mocktails while learning about the Libra New Moon and how Venus (the planet of balance\, beauty & harmony) shows up in your astrological chart. \nEnjoy 10% off in store shopping. \nJoin in on the magic. Get your tickets today: \nTickets \nScreenshot
URL:https://agracioussoul.com/event/the-cosmic-bar-a-libra-new-moon-gathering/
END:VEVENT
BEGIN:VEVENT
DTSTART;TZID=UTC:20251230T173000
DTEND;TZID=UTC:20251230T193000
DTSTAMP:20260423T215521
CREATED:20251208T174106Z
LAST-MODIFIED:20251208T174106Z
UID:10632-1767115800-1767123000@agracioussoul.com
SUMMARY:New Year Fire Ritual
DESCRIPTION:Join us for our annual New Year Fire Ritual December 30th 530pm \nA powerful evening of releasing the old\, creating space for the new\, & setting intentions for the year ahead.  \n  \n \n  \nWhats included: \nintuitive card pulls \nhealing reiki energy \ndrinks & lite bites \nfire starter with crystal \n& a gathering filled with good energy & powerful intention. \n  \nSpace is limited. Reserve your spot today. TICKETS HERE \n  \nMore info: \nhttps://scmembership.my.canva.site/new-year-fire-ritual
URL:https://agracioussoul.com/event/new-year-fire-ritual/
LOCATION:A Gracious Soul Shop\, 110 Main Street\, East Greenwich\, RI\, 02818\, United States
END:VEVENT
END:VCALENDAR