BEGIN:VCALENDAR
VERSION:2.0
PRODID:-//Consciously Sourced Products - ECPv6.2.0.1//NONSGML v1.0//EN
CALSCALE:GREGORIAN
METHOD:PUBLISH
X-ORIGINAL-URL:https://agracioussoul.com
X-WR-CALDESC:Events for Consciously Sourced Products
REFRESH-INTERVAL;VALUE=DURATION:PT1H
X-Robots-Tag:noindex
X-PUBLISHED-TTL:PT1H
BEGIN:VTIMEZONE
TZID:UTC
BEGIN:STANDARD
TZOFFSETFROM:+0000
TZOFFSETTO:+0000
TZNAME:UTC
DTSTART:20250101T000000
END:STANDARD
END:VTIMEZONE
BEGIN:VEVENT
DTSTART;TZID=UTC:20250409T180000
DTEND;TZID=UTC:20250409T193000
DTSTAMP:20260423T230157
CREATED:20250317T235600Z
LAST-MODIFIED:20250318T000335Z
UID:10586-1744221600-1744227000@agracioussoul.com
SUMMARY:A Sweet Evening - Cupcake Decorating with Sweets by NB!
DESCRIPTION:Looking for a fun night with friends? Join us at A Gracious Soul for an interactive cupcake decorating workshop hosted by Sweets by NB! \nIn this interactive workshop\, you’ll learn how to carve\, fill and decorate two cupcakes with floral tips and piping tricks. Whether you’re a professional piper or a beginner\, this class will be both fun and creative! \nWhat’s included in the workshop: \n1) Step by step tutorial on cupcake-decorating \n2) Various fillings and toppings \n3) One vanilla and one chocolate cupcake to decorate and bring home \n4) All tools will be provided \n5) A fun and creative ambiance \n6) A 10% in-store discount for attendees \nSpots are limited\, so grab a friend and purchase your tickets today! \nPurchase Tickets
URL:https://agracioussoul.com/event/a-sweet-evening-cupcake-decorating-with-sweets-by-nb/
LOCATION:A Gracious Soul Shop\, 110 Main Street\, East Greenwich\, RI\, 02818\, United States
END:VEVENT
END:VCALENDAR